BEGIN:VCALENDAR
VERSION:2.0
PRODID:-//PILON - Pacific Islands Law Officers&#039; Network - ECPv5.3.2//NONSGML v1.0//EN
CALSCALE:GREGORIAN
METHOD:PUBLISH
X-WR-CALNAME:PILON - Pacific Islands Law Officers&#039; Network
X-ORIGINAL-URL:https://pilonsec.org
X-WR-CALDESC:Events for PILON - Pacific Islands Law Officers&#039; Network
BEGIN:VTIMEZONE
TZID:Pacific/Apia
BEGIN:STANDARD
TZOFFSETFROM:+1400
TZOFFSETTO:+1300
TZNAME:+13
DTSTART:20210403T140000
END:STANDARD
BEGIN:DAYLIGHT
TZOFFSETFROM:+1300
TZOFFSETTO:+1400
TZNAME:+14
DTSTART:20210925T140000
END:DAYLIGHT
TZID:Pacific/Tongatapu
BEGIN:STANDARD
TZOFFSETFROM:+1300
TZOFFSETTO:+1300
TZNAME:+13
DTSTART:20210101T000000
END:STANDARD
END:VTIMEZONE
BEGIN:VEVENT
DTSTART;TZID=Pacific/Apia:20211105T130000
DTEND;TZID=Pacific/Apia:20211105T160000
DTSTAMP:20260425T235827
CREATED:20211025T232416Z
LAST-MODIFIED:20211025T232416Z
UID:4060-1636117200-1636128000@pilonsec.org
SUMMARY:PILON 40th Annual Meeting
DESCRIPTION:
URL:https://pilonsec.org/event/pilon-40th-annual-meeting/
LOCATION:Videoconference
END:VEVENT
BEGIN:VEVENT
DTSTART;TZID=Pacific/Tongatapu:20211126T130000
DTEND;TZID=Pacific/Tongatapu:20211126T170000
DTSTAMP:20260425T235827
CREATED:20211115T224707Z
LAST-MODIFIED:20211115T224707Z
UID:4112-1637931600-1637946000@pilonsec.org
SUMMARY:Webinar: "Countering Disinformation"
DESCRIPTION:We are pleased to announce a co-badged webinar between the PILON Cybercrime Working Group and the Council of Europe on ‘Countering Disinformation’. This webinar will take place on Friday\, 26 November 2021 at 1pm Tonga time/11am Canberra time. \nTo register your interest and receive a link to attend this webinar\, please sign up via the following link: \nhttps://us06web.zoom.us/meeting/register/tZEscO-tqz4uHNOV-EOTztMlWpVbDsvT5HqI \nOur panelists include speakers from the Council of Europe\, the Pacific Fusion Centre\, the Kiribati Ministry of Information\, Communication\, Transport and Tourism Development\, and the Kingdom of Tonga Attorney-General’s Office. These speakers will share observations and experiences in tackling disinformation\, identifying challenges and opportunities to prosecuting disinformation and how international frameworks can inform domestic approaches to countering disinformation. The presentations will be followed by a one-hour roundtable discussion during which audience members may ask questions or share their own experiences. \nPlease feel free to share details of this webinar with your networks. We look forward to e-seeing you on 26 November.
URL:https://pilonsec.org/event/webinar-countering-disinformation/
END:VEVENT
END:VCALENDAR